BEGIN:VCALENDAR
VERSION:2.0
PRODID:-//Fremantle College - ECPv5.0.0.1//NONSGML v1.0//EN
CALSCALE:GREGORIAN
METHOD:PUBLISH
X-WR-CALNAME:Fremantle College
X-ORIGINAL-URL:https://fremantlecollege.wa.edu.au
X-WR-CALDESC:Events for Fremantle College
BEGIN:VTIMEZONE
TZID:Asia/Shanghai
BEGIN:STANDARD
TZOFFSETFROM:+0800
TZOFFSETTO:+0800
TZNAME:CST
DTSTART:20200101T000000
END:STANDARD
END:VTIMEZONE
BEGIN:VEVENT
DTSTART;TZID=Asia/Shanghai:20200130T080000
DTEND;TZID=Asia/Shanghai:20200131T170000
DTSTAMP:20200227T235743
CREATED:20191203T024756Z
LAST-MODIFIED:20191203T024756Z
UID:3852-1580371200-1580490000@fremantlecollege.wa.edu.au
SUMMARY:School Development Day
DESCRIPTION:Students do not attend school today.  Teaching staff and Administration will be on site. \n
URL:https://fremantlecollege.wa.edu.au/event/school-development-day-11/
END:VEVENT
BEGIN:VEVENT
DTSTART;VALUE=DATE:20200203
DTEND;VALUE=DATE:20200204
DTSTAMP:20200227T235743
CREATED:20191203T025733Z
LAST-MODIFIED:20191203T025733Z
UID:3854-1580688000-1580774399@fremantlecollege.wa.edu.au
SUMMARY:Students First Day of 2020
DESCRIPTION:All students are to meet on the front lawn and follow instructions from staff. \nStudents will be issued with their individual timetable at their year group meeting at the beginning of the day. \n
URL:https://fremantlecollege.wa.edu.au/event/students-first-day-of-2020/
END:VEVENT
BEGIN:VEVENT
DTSTART;TZID=Asia/Shanghai:20200203T080000
DTEND;TZID=Asia/Shanghai:20200204T170000
DTSTAMP:20200227T235743
CREATED:20191203T025847Z
LAST-MODIFIED:20191203T025847Z
UID:3856-1580716800-1580835600@fremantlecollege.wa.edu.au
SUMMARY:Big Days In
DESCRIPTION:Year 7 2020 students 2 day orientation program. \nAll Year 7 students are to meet on the front lawn accessible via Lefroy Road and await direction from staff. \n
URL:https://fremantlecollege.wa.edu.au/event/big-days-in/
END:VEVENT
BEGIN:VEVENT
DTSTART;TZID=Asia/Shanghai:20200217T173000
DTEND;TZID=Asia/Shanghai:20200217T190000
DTSTAMP:20200227T235743
CREATED:20191203T030047Z
LAST-MODIFIED:20191203T030047Z
UID:3858-1581960600-1581966000@fremantlecollege.wa.edu.au
SUMMARY:P&C Meeting
DESCRIPTION:5:30pm in Administration Building \n
URL:https://fremantlecollege.wa.edu.au/event/pc-meeting-7/
END:VEVENT
BEGIN:VEVENT
DTSTART;VALUE=DATE:20200224
DTEND;VALUE=DATE:20200225
DTSTAMP:20200227T235743
CREATED:20191203T030141Z
LAST-MODIFIED:20191203T030141Z
UID:3860-1582502400-1582588799@fremantlecollege.wa.edu.au
SUMMARY:Year 12 Retreat
DESCRIPTION:
URL:https://fremantlecollege.wa.edu.au/event/year-12-retreat-3/
END:VEVENT
BEGIN:VEVENT
DTSTART;TZID=Asia/Shanghai:20200225T153000
DTEND;TZID=Asia/Shanghai:20200225T163000
DTSTAMP:20200227T235743
CREATED:20191203T030606Z
LAST-MODIFIED:20191203T030606Z
UID:3864-1582644600-1582648200@fremantlecollege.wa.edu.au
SUMMARY:College Tour
DESCRIPTION:Should you wish to attend our College Tour\, please ensure you arrive by 3:25pm for 3:30pm start.  Please meet at the steps in front of the Administration Building\, accessible via Lefroy Road. \nClick here to book your College Tour : https://fremantlecollege.wa.edu.au/enrolments/college-tour-dates/ \n  \n
URL:https://fremantlecollege.wa.edu.au/event/college-tour-12/
END:VEVENT
BEGIN:VEVENT
DTSTART;VALUE=DATE:20200226
DTEND;VALUE=DATE:20200227
DTSTAMP:20200227T235743
CREATED:20191203T030934Z
LAST-MODIFIED:20191203T030934Z
UID:3868-1582675200-1582761599@fremantlecollege.wa.edu.au
SUMMARY:College Swimming Carnival
DESCRIPTION:Carnival participants only – nominations to participate via Phys Ed Department. \n
URL:https://fremantlecollege.wa.edu.au/event/college-swimming-carnival/
END:VEVENT
END:VCALENDAR